BEGIN:VCALENDAR
PRODID:-//kirchenweb.ch gmbh//veranstaltungsausgabe v2.0//DE
VERSION:2.0
METHOD:PUBLISH
BEGIN:VEVENT
DTSTART:20050830T080000Z
DTEND:20050830T090000Z
LOCATION:H50\, S4\, \,
TRANSP:OPAQUE
SEQUENCE:0
UID:8-veranstaltung@pfarrverein.ch
DTSTAMP:20260423T111629Z
DESCRIPTION:Haupttraktandum\nWie erleben wir als PfarrerInnen die
  "Personalführung" der Landeskirche (Vorbereitung eines Gesprächs mit
  Fredi Frühauf)\n\nKontakt: Rolf Kühni\n\nWeitere Infos:
  https://www.pfarrverein.ch/veranstaltung/8
SUMMARY:Kapitelsdelegierte Versammlung
PRIORITY:5
X-MICROSOFT-CDO-IMPORTANCE:1
CLASS:PUBLIC
END:VEVENT
END:VCALENDAR
