BEGIN:VCALENDAR
PRODID:-//kirchenweb.ch gmbh//veranstaltungsausgabe v2.0//DE
VERSION:2.0
METHOD:PUBLISH
BEGIN:VEVENT
DTSTART:20050921T160000Z
DTEND:20050921T170000Z
LOCATION:Winterthur\, \,
TRANSP:OPAQUE
SEQUENCE:0
UID:7-veranstaltung@pfarrverein.ch
DTSTAMP:20260423T094033Z
DESCRIPTION:Veranstaltung zum 90jährigen Jubiläum\nMittwoch\, 21.
  September 2005\, 18.00 Uhr\nKirchgemeindehaus Liebe\, Liebestrasse 3\,
  8400 Winterthur\n(5 Minuten vom Bahnhof Winterthur)\n\n Am Bettag 1915
  wurde der "Kirchenbote" von Winterthurer Pfarrern gegründet\, vorerst
  für die Bevölkerung von Winterthur und Umgebung. Bald aber wurde er ein
  kantonale Kirchenzeitung\, heute mit einer Auflage von 254'000
  Exemplaren.\n\nPROGRAMM\nab 18.00 Uhr Apéro\n19.00 Uhr Begrüssung durch
  K. Bütikofer (Präsident Geschäftsleitung)\, anschliessend Grussworte
  von Ruedi Reich (Kirchenratspräsident)\, Lothar Dostal
  (Geschäftsführer Ziegler Druck- und Verlags-AG)\, Rolf Kühni
  (Präsident Pfarrverein).\nDann: Religion und kirchliche Medien\, Referat
  von Kurt Imhof (Professor für Publizistikwissenschaft und Soziologie an
  der Uni Zürich)\nAnschliessend: Lunchbuffet\n\nKontakt:
  marie-ursula.kind@pfarrverein.ch\n\nWeitere Infos:
  https://www.pfarrverein.ch/veranstaltung/7
SUMMARY:KiBo-Jubiläum
PRIORITY:5
X-MICROSOFT-CDO-IMPORTANCE:1
CLASS:PUBLIC
END:VEVENT
END:VCALENDAR
