BEGIN:VCALENDAR
PRODID:-//kirchenweb.ch gmbh//veranstaltungsausgabe v2.0//DE
VERSION:2.0
METHOD:PUBLISH
BEGIN:VEVENT
DTSTART:20051026T070000Z
DTEND:20051026T080000Z
LOCATION:Bethaus\, Schlossgasse 10\, 8003 Zürich\, \,
TRANSP:OPAQUE
SEQUENCE:0
UID:6-veranstaltung@pfarrverein.ch
DTSTAMP:20260423T074849Z
DESCRIPTION:Tagung zur Endfassung des Berufsbildes\, mit Delegierten aus
  den Kapiteln\n\nKontakt: Rolf Kühni\n\nWeitere Infos:
  https://www.pfarrverein.ch/veranstaltung/6
SUMMARY:Tagung "Berufsbild"
PRIORITY:5
X-MICROSOFT-CDO-IMPORTANCE:1
CLASS:PUBLIC
END:VEVENT
END:VCALENDAR
