BEGIN:VCALENDAR
PRODID:-//kirchenweb.ch gmbh//veranstaltungsausgabe v2.0//DE
VERSION:2.0
METHOD:PUBLISH
BEGIN:VEVENT
DTSTART:20270304T080000Z
DTEND:20270304T090000Z
LOCATION:Am Ort des Fastenkonvents\, \,
TRANSP:OPAQUE
SEQUENCE:0
UID:327-veranstaltung@pfarrverein.ch
DTSTAMP:20260316T150333Z
DESCRIPTION:Kontakt: Werner Näf\n\nWeitere Infos:
  https://www.pfarrverein.ch/veranstaltung/327
SUMMARY:Jahresversammlung Pfarrverein SH
PRIORITY:5
X-MICROSOFT-CDO-IMPORTANCE:1
CLASS:PUBLIC
END:VEVENT
END:VCALENDAR
