BEGIN:VCALENDAR
PRODID:-//kirchenweb.ch gmbh//veranstaltungsausgabe v2.0//DE
VERSION:2.0
METHOD:PUBLISH
BEGIN:VEVENT
DTSTART:20260701T150000Z
DTEND:20260701T160000Z
LOCATION:Dübendorf Glockensaal\, Bahnhofstrasse 37\, 8600 Dübendorf
TRANSP:OPAQUE
SEQUENCE:0
UID:321-veranstaltung@pfarrverein.ch
DTSTAMP:20260330T134031Z
DESCRIPTION:Der Pfarrverein ist zu Gast in der Kirchgemeinde
  Dübendorf-Schwerzenbach\n\nReferat: Bettina Lichtler\n\nIm Anschluss an
  die GV wird Bettina Lichtler (Beziehungen und Ökumene\, Zürcher
  Landeskirche) als Teil der schweizerischen Delegation über die
  Generalversammlung der Weltgemeinschaft reformierter Kirchen im Oktober
  2025 in Thailand berichten. \n\nWas hat sie gehört? Was hat sie bewegt?
  Was kann sie uns mitteilen? - Die reformierte Weltgemeinschaft\, zu der
  wir gehören\, lebt von der Kommunikation. Vom Mitteilen\, Anteilnehmen
  und Antworten.  Im Anschluss an die Generalversammlung des Zürcher
  Pfarrvereins wollen wir auf das hören\, was Bettina Lichtler von der
  Generalversammlung berichtet. Wir wollen uns mit spezifischen Themen
  auseinandersetzen. Was können wir in unsere Seelsorge und Verkündigung
  einfliessen lassen? Und vielleicht gelingt es uns\, eine Antwort an die
  Weltgemeinschaft geben\, denn die Schwestern und Brüder weltweit sollen
  spüren\, dass wir ihre Anliegen hören. Was möchten wir ihnen mitteilen
  und sagen?\n\nKontakt: Arnold Steiner\n\nWeitere Infos:
  https://www.pfarrverein.ch/veranstaltung/321
SUMMARY:GV des Pfarrvereins Kanton Zürich
PRIORITY:5
X-MICROSOFT-CDO-IMPORTANCE:1
CLASS:PUBLIC
END:VEVENT
END:VCALENDAR
