BEGIN:VCALENDAR
PRODID:-//kirchenweb.ch gmbh//veranstaltungsausgabe v2.0//DE
VERSION:2.0
METHOD:PUBLISH
BEGIN:VEVENT
DTSTART:20260906T140000Z
DTEND:20260906T210000Z
LOCATION:noch offen\, \,
TRANSP:OPAQUE
SEQUENCE:0
UID:318-veranstaltung@pfarrverein.ch
DTSTAMP:20250917T121815Z
DESCRIPTION:Kontakt: verena.salvisberg@pfarrverein.ch\n\nWeitere Infos:
  https://www.pfarrverein.ch/veranstaltung/318
SUMMARY:Save the date - Tagung 2026
PRIORITY:5
X-MICROSOFT-CDO-IMPORTANCE:1
CLASS:PUBLIC
END:VEVENT
END:VCALENDAR
