BEGIN:VCALENDAR
PRODID:-//kirchenweb.ch gmbh//veranstaltungsausgabe v2.0//DE
VERSION:2.0
METHOD:PUBLISH
BEGIN:VEVENT
DTSTART:20260129T074500Z
DTEND:20260129T111500Z
LOCATION:H7\, Hirschengraben 7\,  Zürich
TRANSP:OPAQUE
SEQUENCE:0
UID:317-veranstaltung@pfarrverein.ch
DTSTAMP:20250512T145804Z
DESCRIPTION:Bereits heute möchten wir euch auf das Treffen der
  Kapitelsdelegierten im Januar 2026 aufmerksam machen. \n\nIm Anschluss an
  das Treffen plant der Vorstand des Pfarrvereins wiederum eine
  Diskussionsrunde zu einem aktuellen Thema zu veranstalten. \n\nWeitere
  Informationen folgen. \n\nKontakt: Arnold Steiner\n\nWeitere Infos:
  https://www.pfarrverein.ch/veranstaltung/317
SUMMARY:Treffen der Kapitelsdelegierten 2026
PRIORITY:5
X-MICROSOFT-CDO-IMPORTANCE:1
CLASS:PUBLIC
END:VEVENT
END:VCALENDAR
