BEGIN:VCALENDAR
PRODID:-//kirchenweb.ch gmbh//veranstaltungsausgabe v2.0//DE
VERSION:2.0
METHOD:PUBLISH
BEGIN:VEVENT
DTSTART;VALUE=DATE:20260622
DTEND;VALUE=DATE:20260623
LOCATION:unterwegs\, \,
TRANSP:OPAQUE
SEQUENCE:0
UID:313-veranstaltung@pfarrverein.ch
DTSTAMP:20260220T151822Z
DESCRIPTION:Der Pfarrverein Kanton Zürich lädt wiederum Pfarrerinnen und
  Pfarrer ein\, durch den Kanton Zürich zu pilgern. \nWeitere
  Interessierte und Delegationen von anderen Pfarrvereinen sind herzlich
  willkommen.\n\nHighlights\n\nTeilnahme\nMan kann die ganze
  Pilgerwanderung machen oder etappenweise teilnehmen.\n\nDie Teilnahme
  steht allen Zürcher Pfarrerinnen und Pfarrern bzw. allen\, die als VDM
  (Verbi Divini Minister/Ministra) ordiniert sind und im Kanton Zürich
  wohnen oder arbeiten\, offen. Als Gäste sind weitere Interessierte und
  Delegationen von anderen Pfarrvereinen herzlich willkommen.\n\nDer
  Zürcher Kirchenrat subventioniert diese Weiterbildung wie einen Kurs der
  Landeskirche\, d.h. er übernimmt zwei Drittel der Kosten\, bis max. CHF
  140/Tag.\nDiejenigen\, die nicht bei der Zürcher Kirche arbeiten\,
  können eine Subvention durch den Pfarrverein beantragen.\n\nWeitere
  Informationen zum Tagesprogramm und zur Organisation finden Sie unter
  diesem \nhttps://www.pfarrverein.ch/se/zh/pilgerwanderung_2026\n\nFlyer: 
 \n\nKontakt: Arnold Steiner\n\nWeitere Infos:
  https://www.pfarrverein.ch/veranstaltung/313
SUMMARY:Pilgerwanderung 2026
PRIORITY:5
X-MICROSOFT-CDO-IMPORTANCE:1
CLASS:PUBLIC
END:VEVENT
END:VCALENDAR
